BEGIN:VCALENDAR
VERSION:2.0
PRODID:Spatie calendar-links
BEGIN:VEVENT
UID:a429e633339d30c670e8c8dba02303c9
SUMMARY:Global AI Show - December 2024
DTSTAMP;TZID=Europe/Rome:20241212T090000
DTSTART;TZID=Europe/Rome:20241212T090000
DTEND;TZID=Europe/Rome:20241213T060000
LOCATION:Dubai\, Dubai\, United Arab Emirates
END:VEVENT
END:VCALENDAR